BEGIN:VCALENDAR
VERSION:2.0
PRODID:-//Jugend-, Kultur- und Bürgerzentrum &quot;Zweite Heimat&quot; - ECPv6.15.20//NONSGML v1.0//EN
CALSCALE:GREGORIAN
METHOD:PUBLISH
X-ORIGINAL-URL:https://juz-zweiteheimat.de
X-WR-CALDESC:Veranstaltungen für Jugend-, Kultur- und Bürgerzentrum &quot;Zweite Heimat&quot;
REFRESH-INTERVAL;VALUE=DURATION:PT1H
X-Robots-Tag:noindex
X-PUBLISHED-TTL:PT1H
BEGIN:VTIMEZONE
TZID:Europe/Berlin
BEGIN:DAYLIGHT
TZOFFSETFROM:+0100
TZOFFSETTO:+0200
TZNAME:CEST
DTSTART:20260329T010000
END:DAYLIGHT
BEGIN:STANDARD
TZOFFSETFROM:+0200
TZOFFSETTO:+0100
TZNAME:CET
DTSTART:20261025T010000
END:STANDARD
BEGIN:DAYLIGHT
TZOFFSETFROM:+0100
TZOFFSETTO:+0200
TZNAME:CEST
DTSTART:20270328T010000
END:DAYLIGHT
BEGIN:STANDARD
TZOFFSETFROM:+0200
TZOFFSETTO:+0100
TZNAME:CET
DTSTART:20271031T010000
END:STANDARD
BEGIN:DAYLIGHT
TZOFFSETFROM:+0100
TZOFFSETTO:+0200
TZNAME:CEST
DTSTART:20280326T010000
END:DAYLIGHT
BEGIN:STANDARD
TZOFFSETFROM:+0200
TZOFFSETTO:+0100
TZNAME:CET
DTSTART:20281029T010000
END:STANDARD
END:VTIMEZONE
BEGIN:VEVENT
DTSTART;TZID=Europe/Berlin:20271126T200000
DTEND;TZID=Europe/Berlin:20271126T200000
DTSTAMP:20260423T225428
CREATED:20250626T121942Z
LAST-MODIFIED:20251006T121941Z
UID:10000401-1827259200-1827259200@juz-zweiteheimat.de
SUMMARY:Maria Vollmer - "Plätzchen\, Pillen und Posaunen" am 26. November 2027
DESCRIPTION:Auch in diesem Jahr werden wir in der Adventszeit wieder durch ein Wechselbad der Gefühle gehen: Von der Glühwein-Euphorie unterm Heizpilz – bis zur akuten Depression angesichts von Lichterketten\, die sich partout nicht entwirren lassen. Und am Tag X steht dann ja auch noch die Verwandtschaft vor der Tür. Was sollen wir schenken\, wenn alle schon alles haben\, und man irgendwo zwischen Protz–Präsent und “wir schenken uns nichts“ das Passende finden muss? Was erzählt man den lieben Kleinen\, wenn sie fragen\, ob die Gaben denn nun vom Christkind\, dem Nikolaus\, von Knecht Ruprecht oder dem Weihnachtsmann kommen? Und was tun\, wenn sie an jeden der vier einen Wunschzettel geschickt haben? Schließlich: Womit kann eine Frau ihren Ehemann beschäftigen\, wenn der beim Gänsebraten immer nur im Weg steht\, mit dem Probieren des Weins aber besser nicht zu früh beginnen sollte? Maria Vollmer hat ein Weihnachts-Mindset entwickelt\, das dabei hilft\, alle Klippen vor dem Fest zu umschiffen\, und sie präsentiert es ihrem Publikum mit viel Temperament\, himmlischen Gesangseinlagen und einem Maß an Humor\, das Sie auch dann noch vor Freude strahlen lässt\, wenn Onkel Herbert Ihnen zum dritten Mal ein Fondue-Set schenkt. \n„Plätzchen\, Pillen und Posaunen“ – für alle\, die Weihnachten nicht überleben\, sondern genießen wollen. \nAm Freitag\, 26. November 2027 um 20 Uhr im Jugend-\, Kultur- und Bürgerzentrum “Zweite Heimat”\, Mittelstr. 7 in Höhr-Grenzhausen. Karten sind erhältlich unter www.juz-zweiteheimat.de und kosten im VVK: 20\,- Euro\, an der AK: 22\,- Euro. \nNach der Reservierung vermerken wir Ihren Namen auf unserer Vorverkaufsliste. Sie zahlen den Eintritt an der Abendkasse vor Ort. Freie Platzwahl. Wir freuen uns auf Ihren Besuch! \nKartenreservierungBitte aktiviere JavaScript in deinem Browser\, um dieses Formular fertigzustellen.VeranstaltungstitelAnzahl der Karten *12345678910Name *Telefon *E-Mail *StraßePLZ/OrtVerbindliche Reservierung *Mit Absenden Ihrer Reservierung über unser Onlineformular erklären Sie sich mit der verbindlichen Buchung der ausgewählten Tickets einverstanden. Bitte beachten Sie\, dass Ihre Reservierung zahlungspflichtig ist und nach erfolgreicher Bestätigung nicht mehr kostenfrei storniert werden kann.NewsletterJa\, ich möchte den Newsletter mit regelmäßigen Informationen über Veranstaltungen des Jugend- und Kulturzentrum "Zweite Heimat" erhalten.Datenschutz *Mit dem Absenden Ihrer Anfrage erklären Sie sich mit der Verarbeitung Ihrer angegebenen Daten zum Zweck der Bearbeitung Ihrer Anfrage einverstanden.https://www.juz-zweiteheimat.de/datenschutzerklaerungJetzt reservieren
URL:https://juz-zweiteheimat.de/event/maria-vollmer-plaetzchen-pillen-und-posaunen-am-26-november-2027/
LOCATION:Jugend-\, Kultur- und Bürgerzentrum “Zweite Heimat”\, Mittelstraße 7\, Höhr-Grenzhausen\, Rheinland-Pfalz\, 56203\, Germany
ATTACH;FMTTYPE=image/jpeg:https://juz-zweiteheimat.de/wp-content/uploads/2024/04/Maria-Vollmer_Quelle-Ulrike-Reinker-web.jpg
ORGANIZER;CN="Jugend-%2C Kultur- und B%C3%BCrgerzentrum 'Zweite Heimat'":MAILTO:info@juz-zweiteheimat.de
END:VEVENT
END:VCALENDAR