BEGIN:VCALENDAR
VERSION:2.0
PRODID:-//Jugend-, Kultur- und Bürgerzentrum &quot;Zweite Heimat&quot; - ECPv6.15.20//NONSGML v1.0//EN
CALSCALE:GREGORIAN
METHOD:PUBLISH
X-ORIGINAL-URL:https://juz-zweiteheimat.de
X-WR-CALDESC:Veranstaltungen für Jugend-, Kultur- und Bürgerzentrum &quot;Zweite Heimat&quot;
REFRESH-INTERVAL;VALUE=DURATION:PT1H
X-Robots-Tag:noindex
X-PUBLISHED-TTL:PT1H
BEGIN:VTIMEZONE
TZID:Europe/Berlin
BEGIN:DAYLIGHT
TZOFFSETFROM:+0100
TZOFFSETTO:+0200
TZNAME:CEST
DTSTART:20210328T010000
END:DAYLIGHT
BEGIN:STANDARD
TZOFFSETFROM:+0200
TZOFFSETTO:+0100
TZNAME:CET
DTSTART:20211031T010000
END:STANDARD
BEGIN:DAYLIGHT
TZOFFSETFROM:+0100
TZOFFSETTO:+0200
TZNAME:CEST
DTSTART:20220327T010000
END:DAYLIGHT
BEGIN:STANDARD
TZOFFSETFROM:+0200
TZOFFSETTO:+0100
TZNAME:CET
DTSTART:20221030T010000
END:STANDARD
BEGIN:DAYLIGHT
TZOFFSETFROM:+0100
TZOFFSETTO:+0200
TZNAME:CEST
DTSTART:20230326T010000
END:DAYLIGHT
BEGIN:STANDARD
TZOFFSETFROM:+0200
TZOFFSETTO:+0100
TZNAME:CET
DTSTART:20231029T010000
END:STANDARD
BEGIN:DAYLIGHT
TZOFFSETFROM:+0100
TZOFFSETTO:+0200
TZNAME:CEST
DTSTART:20240331T010000
END:DAYLIGHT
BEGIN:STANDARD
TZOFFSETFROM:+0200
TZOFFSETTO:+0100
TZNAME:CET
DTSTART:20241027T010000
END:STANDARD
END:VTIMEZONE
BEGIN:VEVENT
DTSTART;TZID=Europe/Berlin:20230527T160000
DTEND;TZID=Europe/Berlin:20230527T170000
DTSTAMP:20260421T144523
CREATED:20230420T111108Z
LAST-MODIFIED:20230515T112932Z
UID:10000268-1685203200-1685206800@juz-zweiteheimat.de
SUMMARY:Konzert für Familien - Raketen Erna
DESCRIPTION:Tu\, was du liebst! – „Raketen-Erna“-Konzert\nAm Samstag\, 27.05. kommt die Berliner Band „Raketen Erna“ wieder nach Höhr-Grenzhausen ins Jugend- und Kulturzentrum “Zweite Heimat”. Und wenn ihr diese Band noch nicht kennt\, dann wird es Zeit! Sie singt für Erdbeerprinzessinnen\, Superheld*innen tolle Texte über das Leben so bunt und verrückt wie es ist. Die Musik ist fetzig\, mal laut\, mal leise\, zum Mittanzen und für gute Laune!\nZum Konzert sind Familien mit Kindern zwischen 4 und 10 Jahren eingeladen – und alle anderen auch! \nDas ev. Familienzentrum „Die Arche“ und der ev. Kindergarten „Die Kinderarche“ haben „Raketen Erna“ eingeladen\, die „Partnerschaft für Demokratie im Kannenbäckerland“\, der Kinderschutzbund sowie das Jugend- und Kulturzentrum “Zweite Heimat” unterstützen – der Eintritt ist frei\, seid dabei\, das wird toll! \n\nWenn Rio Reiser eine Kinderplatte gemacht hätte\, dann hätte sie bestimmt nicht viel anders geklungen als die Musik von RAKETEN ERNA. Die Berliner Dreiercombo macht Musik für Erdbeerprinzessinnen\, kleine Monsieurs und Superhelden*innen und ist nach ihrem erfolgreichen Debüt-Album „Bouletten Beats“ und dem tollen „Mir doch egal\, ich lass das jetzt so“\, das auf der Longlist für den Preis der deutschen Schallplattenkritik 2020 in der Kategorie Kinder-und Jugendaufnahmen landete\, mit neuem Longplayer zurück. „Der Erna ihr dritter Streich“ Einmal mehr bringt das Kinderrock-Trio aus Berlin-Kreuzberg Farbe und alle möglichen Genres in die Kinderzimmer und in die Autoradio’s der Eltern. Mal beatle-esk mit „Briefträgerin Mandy“ und „Trend-Man“\, mal mit Ska-Anleihen bei „Straßenschilder“ und der „Ballade vom Wolf“; einer süßen Geschichte über einen Wolf\, der mit Minirock und Stöckelschuhen durch den Wald stolziert; oder gar mit derben Wüstenrock („Ich flieg’ durch die Straßen“) – selbst jazzig-poppig wird es diesmal beim Hunde-Lied „Bello\, der beste Freund der Welt“. Mit gewohnt gekonntem mehrstimmigen Gesang legt RAKETEN ERNA einen Genre-Spagat hin\, der Kinder UND Erwachsene begeistert. \nEines ist sicher: So wie das Kinderlieder Magazin schon über „Bouletten Beats“ sagte\, „Wer seine Kinder zu aufrechten\, denkenden Menschen erzieht und auf der Suche nach toller Musik dafür ist\, der ist auf der CD richtig gut aufgehoben (…)“\, so kann dieses Zitat mit Ehrenwort eins zu eins auf „Der Erna ihr dritter Streich“ übertragen werden. Erna meint es gut und Erna liebt euch – alle – so wie ihr seid. \nRAKETEN ERNA haben sich einen ausgezeichneten Ruf als Live-Band erspielt mit Festivalauftritten beim A Summer’s Tale\, dem Burg-Herzberg-Festival\, der Kieler Woche oder der KinderArena in Jena. Schnell wurde auch der KIKA auf die musikalischen Welt(raum)forscher aufmerksam und lud sie nun bereits zum zweiten Mal zum SingAlarm ein. Wer oder was soll RAKETEN ERNA jetzt noch davon abhalten\, mit ihrem neuen Album die Welt zu verändern? \nAm Samstag\, 27. Mai 2023 um 16 Uhr im Jugend- und Kulturzentrum “Zweite Heimat”. Der Eintritt ist frei.
URL:https://juz-zweiteheimat.de/event/konzert-fuer-familien-raketen-erna-2/
ATTACH;FMTTYPE=image/png:https://juz-zweiteheimat.de/wp-content/uploads/2023/04/Raketen-Erna.png
ORGANIZER;CN="Die ArcheFamilienzentrum der ev. Kirchengemeinde H%C3%B6hr-Grenzhausen":MAILTO:familienzentrum.hoehr-grenzhausen@ekhn.de
END:VEVENT
BEGIN:VEVENT
DTSTART;TZID=Europe/Berlin:20230516T160000
DTEND;TZID=Europe/Berlin:20230516T180000
DTSTAMP:20260421T144523
CREATED:20230418T112422Z
LAST-MODIFIED:20230418T112617Z
UID:10000267-1684252800-1684260000@juz-zweiteheimat.de
SUMMARY:Let`s Play-Spieleparty am Ferbachspielplatz
DESCRIPTION:In Kooperation mit dem Familienzentrum der ev. Kirchengemeinde „Die Arche“ lädt das Jugend- und Kulturzentrum “Zweite Heimat” alle spielbegeisterten Familien zum gemeinsamen Spielen mit verschiedenen Außenspielgeräten ein. Zudem hat das Jugendhaus eine große Hüpfburg für alle spielbegeisterten Kids im Gepäck und wer sich auf dem Ferbach-Spielplatz zum Picknick zusammenfinden möchte\, für den hält das Team Picknickdecken bereit. Außerdem können alle angehenden Rennfahrer und Rennfahrerinnen ihr Talent auf einem Bobbycar- und Rollerparcours unter Beweis stellen. Termin: Di. 16.05.2023 von 16.00 – 18.00 Uhr.
URL:https://juz-zweiteheimat.de/event/lets-play-spieleparty-am-ferbachspielplatz/
LOCATION:Ferbachspielplatz\, Höhr-Grenzhausen\, 56203\, Deutschland
ATTACH;FMTTYPE=image/jpeg:https://juz-zweiteheimat.de/wp-content/uploads/2023/04/Plakat-Lets-Play-2023-Mai-web.jpg
ORGANIZER;CN="Jugend-%2C Kultur- und B%C3%BCrgerzentrum 'Zweite Heimat'":MAILTO:info@juz-zweiteheimat.de
END:VEVENT
BEGIN:VEVENT
DTSTART;TZID=Europe/Berlin:20220926T160000
DTEND;TZID=Europe/Berlin:20220926T160000
DTSTAMP:20260421T144523
CREATED:20220914T101622Z
LAST-MODIFIED:20220914T160039Z
UID:10000232-1664208000-1664208000@juz-zweiteheimat.de
SUMMARY:Konzert für Familien - Raketen Erna
DESCRIPTION:Tu\, was du liebst! – „Raketen-Erna“-Konzert\nAm Montag\, 26.09. um 16 Uhr kommt die Berliner Band „Raketen Erna“ nach Höhr-Grenzhausen ins Jugend- und Kulturzentrum “Zweite Heimat”. Und wenn ihr diese Band noch nicht kennt\, dann wird es Zeit! Sie singt für Erdbeerprinzessinnen\, Superheld*innen tolle Texte über das Leben so bunt und verrückt wie es ist. Die Musik ist fetzig\, mal laut\, mal leise\, zum Mittanzen und für gute Laune!\nZum Konzert sind Familien mit Kindern zwischen 4 und 10 Jahren eingeladen – und alle anderen auch! \nDas ev. Familienzentrum „Die Arche“ und der ev. Kindergarten „Die Kinderarche“ haben „Raketen Erna“ eingeladen\, die „Partnerschaft für Demokratie im Kannenbäckerland“\, der Kinderschutzbund sowie das Jugend- und Kulturzentrum “Zweite Heimat” unterstützen – der Eintritt ist frei\, seid dabei\, das wird toll! \n\nWenn Rio Reiser eine Kinderplatte gemacht hätte\, dann hätte sie bestimmt nicht viel anders geklungen als die Musik von RAKETEN ERNA. Die Berliner Dreiercombo macht Musik für Erdbeerprinzessinnen\, kleine Monsieurs und Superhelden*innen und ist nach ihrem erfolgreichen Debüt-Album „Bouletten Beats“ und dem tollen „Mir doch egal\, ich lass das jetzt so“\, das auf der Longlist für den Preis der deutschen Schallplattenkritik 2020 in der Kategorie Kinder-und Jugendaufnahmen landete\, mit neuem Longplayer zurück. „Der Erna ihr dritter Streich“ Einmal mehr bringt das Kinderrock-Trio aus Berlin-Kreuzberg Farbe und alle möglichen Genres in die Kinderzimmer und in die Autoradio’s der Eltern. Mal beatle-esk mit „Briefträgerin Mandy“ und „Trend-Man“\, mal mit Ska-Anleihen bei „Straßenschilder“ und der „Ballade vom Wolf“; einer süßen Geschichte über einen Wolf\, der mit Minirock und Stöckelschuhen durch den Wald stolziert; oder gar mit derben Wüstenrock („Ich flieg’ durch die Straßen“) – selbst jazzig-poppig wird es diesmal beim Hunde-Lied „Bello\, der beste Freund der Welt“. Mit gewohnt gekonntem mehrstimmigen Gesang legt RAKETEN ERNA einen Genre-Spagat hin\, der Kinder UND Erwachsene begeistert. \nEines ist sicher: So wie das Kinderlieder Magazin schon über „Bouletten Beats“ sagte\, „Wer seine Kinder zu aufrechten\, denkenden Menschen erzieht und auf der Suche nach toller Musik dafür ist\, der ist auf der CD richtig gut aufgehoben (…)“\, so kann dieses Zitat mit Ehrenwort eins zu eins auf „Der Erna ihr dritter Streich“ übertragen werden. Erna meint es gut und Erna liebt euch – alle – so wie ihr seid. \nRAKETEN ERNA haben sich einen ausgezeichneten Ruf als Live-Band erspielt mit Festivalauftritten beim A Summer’s Tale\, dem Burg-Herzberg-Festival\, der Kieler Woche oder der KinderArena in Jena. Schnell wurde auch der KIKA auf die musikalischen Welt(raum)forscher aufmerksam und lud sie nun bereits zum zweiten Mal zum SingAlarm ein. Wer oder was soll RAKETEN ERNA jetzt noch davon abhalten\, mit ihrem neuen Album die Welt zu verändern? \nAm Montag\, 26. September 2022 um 16 Uhr im Jugend- und Kulturzentrum “Zweite Heimat”. Der Eintritt ist frei.
URL:https://juz-zweiteheimat.de/event/konzert-fuer-familien-raketen-erna/
LOCATION:Jugend-\, Kultur- und Bürgerzentrum “Zweite Heimat”\, Mittelstraße 7\, Höhr-Grenzhausen\, Rheinland-Pfalz\, 56203\, Germany
ATTACH;FMTTYPE=image/jpeg:https://juz-zweiteheimat.de/wp-content/uploads/2022/09/2022-09-26-Familienkonzert.jpg
ORGANIZER;CN="Ev. Kindergarten 'Die Kinderarche'":MAILTO:ev.kita.hoehr-grenzhausen@ekhn-net.de
END:VEVENT
END:VCALENDAR